BEGIN:VCALENDAR
VERSION:2.0
PRODID:-//ActiveBury//Events//EN
CALSCALE:GREGORIAN
BEGIN:VEVENT
UID:event-2190@activebury.com
DTSTAMP:20260425T134400Z
SUMMARY:Mother Goose on the Loose
DTSTART:20260615T103000
DTEND:20260615T111500
LOCATION:Princess Anne Library\, 11767 Beechwood St\, Princess Anne\, MD 21853\, USA
DESCRIPTION:Early literacy for toddlers!\nMother Goose on the Loose uses songs\, rhymes\, and stories to help your child develop early literacy skills.\n\nFor children and caregivers from birth to 3.\nMore info: https://somelibrary.org/\nActiveBury: https://www.activebury.com/events/2190
URL:https://www.activebury.com/events/2190
END:VEVENT
END:VCALENDAR
