BEGIN:VCALENDAR
VERSION:2.0
PRODID:-//ActiveBury//Events//EN
CALSCALE:GREGORIAN
BEGIN:VEVENT
UID:event-219@activebury.com
DTSTAMP:20260425T134400Z
SUMMARY:"For the Record" Music Club
DTSTART:20260221T150000
DTEND:20260221T163000
LOCATION:Centre Branch
DESCRIPTION:This event is in the "Ages 18+" group 3:00pm–4:30pm Ages 18+ Centre Branch This event is in the "Ages 18+" group Feb 21 2026 Sat "For the Record" Music Club 3:00pm–4:30pm Centre Branch Please note you are looking at an event that has already happened. Centre Branch The Space at Centre Ages 18+ Other Check out the "Centre" for music! Update your music library at our new monthly music listening club\, “For the Record\,” where attendees will share songs\, music videos\, and more to play.\nMore info: https://www.wicomicolibrary.org/event/record-music-club-21437\nActiveBury: https://www.activebury.com/events/219
URL:https://www.activebury.com/events/219
END:VEVENT
END:VCALENDAR
