BEGIN:VCALENDAR
VERSION:2.0
PRODID:-//ActiveBury//Events//EN
CALSCALE:GREGORIAN
BEGIN:VEVENT
UID:event-2188@activebury.com
DTSTAMP:20260425T133303Z
SUMMARY:OPEN GYM
DTSTART;VALUE=DATE:20260613
DTEND;VALUE=DATE:20260614
DESCRIPTION:More info: https://www.google.com/calendar/event?eid=NTE3YWczY3VqNzM5bGVrNDdydDJ2dWxkOG4gc29tZWxpYnJhcnkub3JnX3FrczluaW8wa3JqYmlnNmphM2xvb2FyNm5zQGc&ctz=America/New_York\nActiveBury: https://www.activebury.com/events/2188
URL:https://www.activebury.com/events/2188
END:VEVENT
END:VCALENDAR
