BEGIN:VCALENDAR
VERSION:2.0
PRODID:-//ActiveBury//Events//EN
CALSCALE:GREGORIAN
BEGIN:VEVENT
UID:event-2185@activebury.com
DTSTAMP:20260425T133312Z
SUMMARY:OPEN GYM
DTSTART;VALUE=DATE:20260612
DTEND;VALUE=DATE:20260613
DESCRIPTION:More info: https://www.google.com/calendar/event?eid=MmxpbmZnNW5haDRpZ24yYjVnbjh1aHJhZG0gc29tZWxpYnJhcnkub3JnX3FrczluaW8wa3JqYmlnNmphM2xvb2FyNm5zQGc&ctz=America/New_York\nActiveBury: https://www.activebury.com/events/2185
URL:https://www.activebury.com/events/2185
END:VEVENT
END:VCALENDAR
