BEGIN:VCALENDAR
VERSION:2.0
PRODID:-//ActiveBury//Events//EN
CALSCALE:GREGORIAN
BEGIN:VEVENT
UID:event-2184@activebury.com
DTSTAMP:20260425T133329Z
SUMMARY:Book Discussion
DTSTART:20260611T140000
DTEND:20260611T160000
LOCATION:Crisfield Library\, 100 Collins St\, Crisfield\, MD 21817\, USA
DESCRIPTION:Join our book club! Current copies of each month's title will be available at the circulation desk.\nMore info: https://somelibrary.org/\nActiveBury: https://www.activebury.com/events/2184
URL:https://www.activebury.com/events/2184
END:VEVENT
END:VCALENDAR
