BEGIN:VCALENDAR
VERSION:2.0
PRODID:-//ActiveBury//Events//EN
CALSCALE:GREGORIAN
BEGIN:VEVENT
UID:event-2183@activebury.com
DTSTAMP:20260425T133258Z
SUMMARY:Chronic Kidney Disease Workshop
DTSTART:20260611T110000
DTEND:20260611T120000
LOCATION:Princess Anne Library\, 11767 Beechwood St\, Princess Anne\, MD 21853\, USA
DESCRIPTION:Take control of your kidney health at this no-cost Chronic Kidney Disease workshop presented by TidalHealth. Learn proven strategies\, ask questions\, and receive valuable resources - Register today at 410-912-5824.\nMore info: https://somelibrary.org/\nActiveBury: https://www.activebury.com/events/2183
URL:https://www.activebury.com/events/2183
END:VEVENT
END:VCALENDAR
