BEGIN:VCALENDAR
VERSION:2.0
PRODID:-//ActiveBury//Events//EN
CALSCALE:GREGORIAN
BEGIN:VEVENT
UID:event-2178@activebury.com
DTSTAMP:20260425T133248Z
SUMMARY:TEEN PROGRAM
DTSTART;VALUE=DATE:20260610
DTEND;VALUE=DATE:20260611
DESCRIPTION:More info: https://www.google.com/calendar/event?eid=MHFkbDE3MjZiMHAyczJlcGplM3EycjQ4aDMgc29tZWxpYnJhcnkub3JnXzk4NzFnZnB0OWxvZmEwY290cnBjaXV0Y3NnQGc&ctz=America/New_York\nActiveBury: https://www.activebury.com/events/2178
URL:https://www.activebury.com/events/2178
END:VEVENT
END:VCALENDAR
