BEGIN:VCALENDAR
VERSION:2.0
PRODID:-//ActiveBury//Events//EN
CALSCALE:GREGORIAN
BEGIN:VEVENT
UID:event-2177@activebury.com
DTSTAMP:20260425T133826Z
SUMMARY:ADULT CRAFT
DTSTART;VALUE=DATE:20260610
DTEND;VALUE=DATE:20260611
DESCRIPTION:More info: https://www.google.com/calendar/event?eid=M2Mwb2g1bHNwdHE5YnJrN2FoMG43M283cjUgc29tZWxpYnJhcnkub3JnX2djZDhhZWc5NDllMWY5YW9iaThqNDE4YWI4QGc&ctz=America/New_York\nActiveBury: https://www.activebury.com/events/2177
URL:https://www.activebury.com/events/2177
END:VEVENT
END:VCALENDAR
