BEGIN:VCALENDAR
VERSION:2.0
PRODID:-//ActiveBury//Events//EN
CALSCALE:GREGORIAN
BEGIN:VEVENT
UID:event-2173@activebury.com
DTSTAMP:20260425T152850Z
SUMMARY:TEEN PROGRAM
DTSTART;VALUE=DATE:20260609
DTEND;VALUE=DATE:20260610
LOCATION:Crisfield Library\, 100 Collins St\, Crisfield\, MD 21817\, USA
DESCRIPTION:Mix up your own trail mix and create a fishing bobber gift for Father's Day. Available while supplies last.\nMore info: https://www.google.com/calendar/event?eid=M2c1Zm42NnE2anBhc2FpMmIwYWw2OWp0M2ggc29tZWxpYnJhcnkub3JnXzkxc2JlNmFzZjRwaGNpcThsY24ycmxhZjFrQGc&ctz=America/New_York\nActiveBury: https://www.activebury.com/events/2173
URL:https://www.activebury.com/events/2173
END:VEVENT
END:VCALENDAR
