BEGIN:VCALENDAR
VERSION:2.0
PRODID:-//ActiveBury//Events//EN
CALSCALE:GREGORIAN
BEGIN:VEVENT
UID:event-2172@activebury.com
DTSTAMP:20260425T133313Z
SUMMARY:GABE PROGRAM
DTSTART;VALUE=DATE:20260609
DTEND;VALUE=DATE:20260610
LOCATION:Princess Anne Library\, 11767 Beechwood St\, Princess Anne\, MD 21853\, USA
DESCRIPTION:Join us to learn how to begin researching your family tree and the resources available for genealogy research. Registration required.\nMore info: https://www.google.com/calendar/event?eid=NDRndXByNjR1NWVybTNxZ2h1ZWo1YXJrYzMgc29tZWxpYnJhcnkub3JnX2djZDhhZWc5NDllMWY5YW9iaThqNDE4YWI4QGc&ctz=America/New_York\nActiveBury: https://www.activebury.com/events/2172
URL:https://www.activebury.com/events/2172
END:VEVENT
END:VCALENDAR
