BEGIN:VCALENDAR
VERSION:2.0
PRODID:-//ActiveBury//Events//EN
CALSCALE:GREGORIAN
BEGIN:VEVENT
UID:event-2171@activebury.com
DTSTAMP:20260425T133424Z
SUMMARY:S.T.E.A.M.-
DTSTART:20260608T140000
DTEND:20260608T150000
LOCATION:Princess Anne Library\, 11767 Beechwood St\, Princess Anne\, MD 21853\, USA
DESCRIPTION:Educational fun for kids of every age!\n\nToday's STEAM:\nMore info: https://www.google.com/calendar/event?eid=NnFya2hzOTQ0a3BiZGhoM2syamRtbnBqZTJfMjAyNjA2MDhUMTgwMDAwWiBzb21lbGlicmFyeS5vcmdfcWtocHVjaHF0MjFlYzhzaWMzZnU5Y2h2ZW9AZw&ctz=America/New_York\nActiveBury: https://www.activebury.com/events/2171
URL:https://www.activebury.com/events/2171
END:VEVENT
END:VCALENDAR
