BEGIN:VCALENDAR
VERSION:2.0
PRODID:-//ActiveBury//Events//EN
CALSCALE:GREGORIAN
BEGIN:VEVENT
UID:event-2169@activebury.com
DTSTAMP:20260425T133422Z
SUMMARY:Charity Sew
DTSTART:20260608T100000
DTEND:20260608T120000
LOCATION:Princess Anne Library\, 11767 Beechwood St\, Princess Anne\, MD 21853\, USA
DESCRIPTION:Join this group in sewing items to donate to Somerset County Social Services. Can&#39\;t join in person? No worries\, we will have patterns available for pick up on a first come\, first serve basis at the Princess Anne circulation desk.\nMore info: https://somelibrary.org/\nActiveBury: https://www.activebury.com/events/2169
URL:https://www.activebury.com/events/2169
END:VEVENT
END:VCALENDAR
