BEGIN:VCALENDAR
VERSION:2.0
PRODID:-//ActiveBury//Events//EN
CALSCALE:GREGORIAN
BEGIN:VEVENT
UID:event-2168@activebury.com
DTSTAMP:20260425T133843Z
SUMMARY:ADULT CRAFT
DTSTART;VALUE=DATE:20260608
DTEND;VALUE=DATE:20260609
LOCATION:Crisfield Library\, 100 Collins St\, Crisfield\, MD 21817\, USA
DESCRIPTION:Join us for 'Lace & Doily Dimensional Painting' where you can create your own artwork using pre-adhered laces and doilies. Registration is required.\nMore info: https://www.google.com/calendar/event?eid=NDZqNjA0MTI3YnZkc2RlbDdjdWwyMDlhanIgc29tZWxpYnJhcnkub3JnX3FrczluaW8wa3JqYmlnNmphM2xvb2FyNm5zQGc&ctz=America/New_York\nActiveBury: https://www.activebury.com/events/2168
URL:https://www.activebury.com/events/2168
END:VEVENT
END:VCALENDAR
