BEGIN:VCALENDAR
VERSION:2.0
PRODID:-//ActiveBury//Events//EN
CALSCALE:GREGORIAN
BEGIN:VEVENT
UID:event-2158@activebury.com
DTSTAMP:20260425T163826Z
SUMMARY:S.T.E.A.M.-
DTSTART:20260603T140000
DTEND:20260603T150000
LOCATION:Crisfield Library\, 100 Collins St\, Crisfield\, MD 21817\, USA
DESCRIPTION:Educational fun for kids of every age!\n\nToday's STEAM:\nMore info: https://www.google.com/calendar/event?eid=N2VobWs1MW5uZnFlY2tkdXRmZGwyMzlidG9fMjAyNjA2MDNUMTgwMDAwWiBzb21lbGlicmFyeS5vcmdfamg4dW84NDY2a292MXZ0aDMzMWVqZTF0N3NAZw&ctz=America/New_York\nActiveBury: https://www.activebury.com/events/2158
URL:https://www.activebury.com/events/2158
END:VEVENT
END:VCALENDAR
