BEGIN:VCALENDAR
VERSION:2.0
PRODID:-//ActiveBury//Events//EN
CALSCALE:GREGORIAN
BEGIN:VEVENT
UID:event-2157@activebury.com
DTSTAMP:20260425T163825Z
SUMMARY:Toddler Art-TBD
DTSTART:20260603T103000
DTEND:20260603T111500
LOCATION:Crisfield Library\, 100 Collins St\, Crisfield\, MD 21817\, USA
DESCRIPTION:Month-\n\nJoin us for a fun-filled toddler art class! Unleash your creativity together and create colorful memories on canvas. All materials plus snacks are provided. Registration Required. Recommended ages under 5.\nMore info: https://www.google.com/calendar/event?eid=NGNhdnV2dHM1N2w5amYxcmUwbTdjdTFjbGFfMjAyNjA2MDNUMTQzMDAwWiBzb21lbGlicmFyeS5vcmdfamg4dW84NDY2a292MXZ0aDMzMWVqZTF0N3NAZw&ctz=America/New_York\nActiveBury: https://www.activebury.com/events/2157
URL:https://www.activebury.com/events/2157
END:VEVENT
END:VCALENDAR
