BEGIN:VCALENDAR
VERSION:2.0
PRODID:-//ActiveBury//Events//EN
CALSCALE:GREGORIAN
BEGIN:VEVENT
UID:event-2151@activebury.com
DTSTAMP:20260425T152945Z
SUMMARY:OPEN GYM
DTSTART;VALUE=DATE:20260530
DTEND;VALUE=DATE:20260531
DESCRIPTION:More info: https://www.google.com/calendar/event?eid=NWptcG1odjllYjNjNW1taWY3N2FydTVzODQgc29tZWxpYnJhcnkub3JnX3FrczluaW8wa3JqYmlnNmphM2xvb2FyNm5zQGc&ctz=America/New_York\nActiveBury: https://www.activebury.com/events/2151
URL:https://www.activebury.com/events/2151
END:VEVENT
END:VCALENDAR
