BEGIN:VCALENDAR
VERSION:2.0
PRODID:-//ActiveBury//Events//EN
CALSCALE:GREGORIAN
BEGIN:VEVENT
UID:event-2148@activebury.com
DTSTAMP:20260425T133257Z
SUMMARY:OPEN GYM
DTSTART;VALUE=DATE:20260529
DTEND;VALUE=DATE:20260530
LOCATION:Crisfield Library\, 100 Collins St\, Crisfield\, MD 21817\, USA
DESCRIPTION:Get your fitness on at the library! Use various exercise equipment available\, such as agility training ladders\, exercise bikes\, and more.\nMore info: https://www.google.com/calendar/event?eid=NXBjczV1OTBncDQyY2psOWd2cHI4dWRhajAgc29tZWxpYnJhcnkub3JnX3FrczluaW8wa3JqYmlnNmphM2xvb2FyNm5zQGc&ctz=America/New_York\nActiveBury: https://www.activebury.com/events/2148
URL:https://www.activebury.com/events/2148
END:VEVENT
END:VCALENDAR
