BEGIN:VCALENDAR
VERSION:2.0
PRODID:-//ActiveBury//Events//EN
CALSCALE:GREGORIAN
BEGIN:VEVENT
UID:event-2147@activebury.com
DTSTAMP:20260425T133246Z
SUMMARY:Libby Workshop?
DTSTART:20260528T100000
DTEND:20260528T110000
DESCRIPTION:Learn how to use the Libby app to read eBooks\, magazines\, and audio books.\nMore info: https://www.google.com/calendar/event?eid=MmlkMGh1NmxrM2JlM204YTY0bXZlNTVmMmcgc29tZWxpYnJhcnkub3JnX3FrczluaW8wa3JqYmlnNmphM2xvb2FyNm5zQGc&ctz=America/New_York\nActiveBury: https://www.activebury.com/events/2147
URL:https://www.activebury.com/events/2147
END:VEVENT
END:VCALENDAR
