BEGIN:VCALENDAR
VERSION:2.0
PRODID:-//ActiveBury//Events//EN
CALSCALE:GREGORIAN
BEGIN:VEVENT
UID:event-2145@activebury.com
DTSTAMP:20260425T133818Z
SUMMARY:ADULT CRAFT
DTSTART;VALUE=DATE:20260527
DTEND;VALUE=DATE:20260528
DESCRIPTION:More info: https://www.google.com/calendar/event?eid=MTE1OWVlbGs2Mm90NGxwbTZtZGJtdnFtaXUgc29tZWxpYnJhcnkub3JnX2djZDhhZWc5NDllMWY5YW9iaThqNDE4YWI4QGc&ctz=America/New_York\nActiveBury: https://www.activebury.com/events/2145
URL:https://www.activebury.com/events/2145
END:VEVENT
END:VCALENDAR
