BEGIN:VCALENDAR
VERSION:2.0
PRODID:-//ActiveBury//Events//EN
CALSCALE:GREGORIAN
BEGIN:VEVENT
UID:event-2142@activebury.com
DTSTAMP:20260425T214013Z
SUMMARY:Libby Workshop?
DTSTART:20260526T100000
DTEND:20260526T110000
DESCRIPTION:Learn how to use the Libby app to read eBooks\, magazines\, and audio books.\nMore info: https://www.google.com/calendar/event?eid=MGhrZ3FzM2tiMTlqb2g3YjFvOGE3aDEyZHIgc29tZWxpYnJhcnkub3JnX2djZDhhZWc5NDllMWY5YW9iaThqNDE4YWI4QGc&ctz=America/New_York\nActiveBury: https://www.activebury.com/events/2142
URL:https://www.activebury.com/events/2142
END:VEVENT
END:VCALENDAR
