BEGIN:VCALENDAR
VERSION:2.0
PRODID:-//ActiveBury//Events//EN
CALSCALE:GREGORIAN
BEGIN:VEVENT
UID:event-214@activebury.com
DTSTAMP:20260425T133305Z
SUMMARY:Willards School
DTSTART:20260219T090000
DTEND:20260219T143000
LOCATION:Bookmobile
DESCRIPTION:This event is in the "Everyone" group 9:00am–2:30pm Everyone Bookmobile Offsite Event This event is in the "Everyone" group Feb 19 2026 Thu Willards School 9:00am–2:30pm Bookmobile Please note you are looking at an event that has already happened. Bookmobile Everyone 36161 Richland Rd.\, Willards\nMore info: https://www.wicomicolibrary.org/event/willards-school-20173\nActiveBury: https://www.activebury.com/events/214
URL:https://www.activebury.com/events/214
END:VEVENT
END:VCALENDAR
