BEGIN:VCALENDAR
VERSION:2.0
PRODID:-//ActiveBury//Events//EN
CALSCALE:GREGORIAN
BEGIN:VEVENT
UID:event-2134@activebury.com
DTSTAMP:20260425T133312Z
SUMMARY:Gaming
DTSTART:20260520T160000
DTEND:20260520T180000
LOCATION:Princess Anne Library
DESCRIPTION:Get your game on with the Switch\, Xbox\, laptops\, tabletop games and more! Drop-in sessions are also available for Xbox\, please see the front desk. 4:00-6:00pm\nMore info: https://somelibrary.org/\nActiveBury: https://www.activebury.com/events/2134
URL:https://www.activebury.com/events/2134
END:VEVENT
END:VCALENDAR
