BEGIN:VCALENDAR
VERSION:2.0
PRODID:-//ActiveBury//Events//EN
CALSCALE:GREGORIAN
BEGIN:VEVENT
UID:event-2127@activebury.com
DTSTAMP:20260425T133305Z
SUMMARY:TIDAL HEALTH PROGRAM
DTSTART;VALUE=DATE:20260519
DTEND;VALUE=DATE:20260520
DESCRIPTION:More info: https://www.google.com/calendar/event?eid=MG1uNnJxaWdzcmo0NjdiYzlwampiYWVyaDlfMjAyNjA1MTkgc29tZWxpYnJhcnkub3JnX2djZDhhZWc5NDllMWY5YW9iaThqNDE4YWI4QGc&ctz=America/New_York\nActiveBury: https://www.activebury.com/events/2127
URL:https://www.activebury.com/events/2127
END:VEVENT
END:VCALENDAR
