BEGIN:VCALENDAR
VERSION:2.0
PRODID:-//ActiveBury//Events//EN
CALSCALE:GREGORIAN
BEGIN:VEVENT
UID:event-2124@activebury.com
DTSTAMP:20260425T133304Z
SUMMARY:ADULT CRAFT
DTSTART;VALUE=DATE:20260518
DTEND;VALUE=DATE:20260519
LOCATION:Crisfield Library\, 100 Collins St\, Crisfield\, MD 21817\, USA
DESCRIPTION:Join us to learn the basics of needle felting while making a cute spring goose. Registration required.\nMore info: https://www.google.com/calendar/event?eid=NTM2OTVmdmVyNzU0MWwydWs5cjI1YmhlZjUgc29tZWxpYnJhcnkub3JnX3FrczluaW8wa3JqYmlnNmphM2xvb2FyNm5zQGc&ctz=America/New_York\nActiveBury: https://www.activebury.com/events/2124
URL:https://www.activebury.com/events/2124
END:VEVENT
END:VCALENDAR
