BEGIN:VCALENDAR
VERSION:2.0
PRODID:-//ActiveBury//Events//EN
CALSCALE:GREGORIAN
BEGIN:VEVENT
UID:event-2114@activebury.com
DTSTAMP:20260425T133306Z
SUMMARY:TEEN PROGRAM
DTSTART;VALUE=DATE:20260513
DTEND;VALUE=DATE:20260514
DESCRIPTION:More info: https://www.google.com/calendar/event?eid=NnJyc2VnNTBucWZ1MDU4Z3A3OTdnZW82NG4gc29tZWxpYnJhcnkub3JnXzk4NzFnZnB0OWxvZmEwY290cnBjaXV0Y3NnQGc&ctz=America/New_York\nActiveBury: https://www.activebury.com/events/2114
URL:https://www.activebury.com/events/2114
END:VEVENT
END:VCALENDAR
