BEGIN:VCALENDAR
VERSION:2.0
PRODID:-//ActiveBury//Events//EN
CALSCALE:GREGORIAN
BEGIN:VEVENT
UID:event-2113@activebury.com
DTSTAMP:20260425T133254Z
SUMMARY:ADULT CRAFT
DTSTART;VALUE=DATE:20260513
DTEND;VALUE=DATE:20260514
DESCRIPTION:More info: https://www.google.com/calendar/event?eid=MXVwZ2xzNmRnc2sxbDY3Z2c4ZzU2MnNvN3Ugc29tZWxpYnJhcnkub3JnX2djZDhhZWc5NDllMWY5YW9iaThqNDE4YWI4QGc&ctz=America/New_York\nActiveBury: https://www.activebury.com/events/2113
URL:https://www.activebury.com/events/2113
END:VEVENT
END:VCALENDAR
