BEGIN:VCALENDAR
VERSION:2.0
PRODID:-//ActiveBury//Events//EN
CALSCALE:GREGORIAN
BEGIN:VEVENT
UID:event-2109@activebury.com
DTSTAMP:20260425T182326Z
SUMMARY:TEEN PROGRAM
DTSTART;VALUE=DATE:20260512
DTEND;VALUE=DATE:20260513
LOCATION:Crisfield Library\, 100 Collins St\, Crisfield\, MD 21817\, USA
DESCRIPTION:Come hang out\, play some games and eat some ramen. Enhance regular ramen with a variety of toppings. Available while supplies last.\nMore info: https://www.google.com/calendar/event?eid=MmRhZGxwbnZmNDlqbXFhOGJiNmRjYjNhaWMgc29tZWxpYnJhcnkub3JnXzkxc2JlNmFzZjRwaGNpcThsY24ycmxhZjFrQGc&ctz=America/New_York\nActiveBury: https://www.activebury.com/events/2109
URL:https://www.activebury.com/events/2109
END:VEVENT
END:VCALENDAR
