BEGIN:VCALENDAR
VERSION:2.0
PRODID:-//ActiveBury//Events//EN
CALSCALE:GREGORIAN
BEGIN:VEVENT
UID:event-2105@activebury.com
DTSTAMP:20260425T133956Z
SUMMARY:ADULT CRAFT
DTSTART;VALUE=DATE:20260511
DTEND;VALUE=DATE:20260512
LOCATION:Crisfield Library\, 100 Collins St\, Crisfield\, MD 21817\, USA
DESCRIPTION:Create an adorable floral themed Scotty dog using a wood cutout\, napkins\, and tissue paper. Registration required.\nMore info: https://www.google.com/calendar/event?eid=MnN1OWo1N3NobGNjc2gydHFvMGM0cjEwaDkgc29tZWxpYnJhcnkub3JnX3FrczluaW8wa3JqYmlnNmphM2xvb2FyNm5zQGc&ctz=America/New_York\nActiveBury: https://www.activebury.com/events/2105
URL:https://www.activebury.com/events/2105
END:VEVENT
END:VCALENDAR
