BEGIN:VCALENDAR
VERSION:2.0
PRODID:-//ActiveBury//Events//EN
CALSCALE:GREGORIAN
BEGIN:VEVENT
UID:event-2103@activebury.com
DTSTAMP:20260425T152807Z
SUMMARY:Lego Club-
DTSTART:20260509T140000
DTEND:20260509T160000
LOCATION:Crisfield Library\, 100 Collins St\, Crisfield\, MD 21817\, USA
DESCRIPTION:Come out and complete our Lego challenges!\n\nTodays challenge:\nMore info: https://www.google.com/calendar/event?eid=ZGlncW12YjIxMjVoOWdiNDdqNmZ0b2RyOTVfMjAyNjA1MDlUMTgwMDAwWiBzb21lbGlicmFyeS5vcmdfamg4dW84NDY2a292MXZ0aDMzMWVqZTF0N3NAZw&ctz=America/New_York\nActiveBury: https://www.activebury.com/events/2103
URL:https://www.activebury.com/events/2103
END:VEVENT
END:VCALENDAR
