BEGIN:VCALENDAR
VERSION:2.0
PRODID:-//ActiveBury//Events//EN
CALSCALE:GREGORIAN
BEGIN:VEVENT
UID:event-2102@activebury.com
DTSTAMP:20260425T133257Z
SUMMARY:Iris Wright-Hart\, Author Table & Study
DTSTART:20260509T130000
DTEND:20260509T160000
LOCATION:Crisfield Library\, 100 Collins St\, Crisfield\, MD 21817\, USA
DESCRIPTION:Join local author Iris Wright-Hart at Crisfield Library for a chat about her book on sickle cell disease. Copies will be available for purchase and signing.\nMore info: https://www.google.com/calendar/event?eid=MmNucHVmNW0xMW9hY2IzcnNvMDhsa2lxcjQgc29tZWxpYnJhcnkub3JnX3FrczluaW8wa3JqYmlnNmphM2xvb2FyNm5zQGc&ctz=America/New_York\nActiveBury: https://www.activebury.com/events/2102
URL:https://www.activebury.com/events/2102
END:VEVENT
END:VCALENDAR
