BEGIN:VCALENDAR
VERSION:2.0
PRODID:-//ActiveBury//Events//EN
CALSCALE:GREGORIAN
BEGIN:VEVENT
UID:event-21@activebury.com
DTSTAMP:20260425T133747Z
SUMMARY:Family Law Help Services
DTSTART:20260107T130000
DTEND:20260107T160000
LOCATION:Mobile Learning Lab
DESCRIPTION:This event is in the "Ages 18+" group 1:00pm–4:00pm Ages 18+ Mobile Learning Lab Offsite Event This event is in the "Ages 18+" group Jan 7 2026 Wed Family Law Help Services 1:00pm–4:00pm Mobile Learning Lab Please note you are looking at an event that has already happened. Mobile Learning Lab Ages 18+ Other The Mobile Learning Lab will be parked at Westside Community Center. Let Wicomico Public Library’s Mobile Learning Lab bring FREE Family Law Help to you!\nMore info: https://www.wicomicolibrary.org/event/family-law-help-services-20848\nActiveBury: https://www.activebury.com/events/21
URL:https://www.activebury.com/events/21
END:VEVENT
END:VCALENDAR
