BEGIN:VCALENDAR
VERSION:2.0
PRODID:-//ActiveBury//Events//EN
CALSCALE:GREGORIAN
BEGIN:VEVENT
UID:event-2095@activebury.com
DTSTAMP:20260425T133324Z
SUMMARY:TIDAL HEALTH PROGRAM
DTSTART;VALUE=DATE:20260505
DTEND;VALUE=DATE:20260506
LOCATION:Princess Anne Library\, 11767 Beechwood St\, Princess Anne\, MD 21853\, USA
DESCRIPTION:Join TidalHealth’s Community Health Educator\, Bobbi McDonald\, for a free chair yoga class suitable for all levels. Registration is required.\nMore info: https://www.google.com/calendar/event?eid=MG1uNnJxaWdzcmo0NjdiYzlwampiYWVyaDlfMjAyNjA1MDUgc29tZWxpYnJhcnkub3JnX2djZDhhZWc5NDllMWY5YW9iaThqNDE4YWI4QGc&ctz=America/New_York\nActiveBury: https://www.activebury.com/events/2095
URL:https://www.activebury.com/events/2095
END:VEVENT
END:VCALENDAR
