BEGIN:VCALENDAR
VERSION:2.0
PRODID:-//ActiveBury//Events//EN
CALSCALE:GREGORIAN
BEGIN:VEVENT
UID:event-2093@activebury.com
DTSTAMP:20260425T143042Z
SUMMARY:Toddler Art-TBD
DTSTART:20260504T103000
DTEND:20260504T111500
LOCATION:Princess Anne Library\, 11767 Beechwood St\, Princess Anne\, MD 21853\, USA
DESCRIPTION:Month-<br><br>Join us for a fun-filled toddler art class! Unleash your creativity together and create colorful memories on canvas. All materials plus snacks are provided. <u>Registration Required.</u> Recommended ages under 5.\nMore info: https://www.google.com/calendar/event?eid=MjY3N3YxcXM5bWk5OHM2MjVxNHFrdDY4ZjZfMjAyNjA1MDRUMTQzMDAwWiBzb21lbGlicmFyeS5vcmdfcWtocHVjaHF0MjFlYzhzaWMzZnU5Y2h2ZW9AZw&ctz=America/New_York\nActiveBury: https://www.activebury.com/events/2093
URL:https://www.activebury.com/events/2093
END:VEVENT
END:VCALENDAR
