BEGIN:VCALENDAR
VERSION:2.0
PRODID:-//ActiveBury//Events//EN
CALSCALE:GREGORIAN
BEGIN:VEVENT
UID:event-209@activebury.com
DTSTAMP:20260425T152834Z
SUMMARY:Pemberton School
DTSTART:20260218T090000
DTEND:20260218T150000
LOCATION:Bookmobile
DESCRIPTION:This event is in the "Everyone" group 9:00am–3:00pm Everyone Bookmobile Offsite Event This event is in the "Everyone" group Feb 18 2026 Wed Pemberton School 9:00am–3:00pm Bookmobile Please note you are looking at an event that has already happened. Bookmobile Everyone 1300 Pemberton Dr.\nMore info: https://www.wicomicolibrary.org/event/pemberton-school-20155\nActiveBury: https://www.activebury.com/events/209
URL:https://www.activebury.com/events/209
END:VEVENT
END:VCALENDAR
