BEGIN:VCALENDAR
VERSION:2.0
PRODID:-//ActiveBury//Events//EN
CALSCALE:GREGORIAN
BEGIN:VEVENT
UID:event-2088@activebury.com
DTSTAMP:20260425T133435Z
SUMMARY:Bingo
DTSTART:20260501T110000
DTEND:20260501T120000
LOCATION:Princess Anne Library\, 11767 Beechwood St\, Princess Anne\, MD 21853\, USA
DESCRIPTION:<u></u><p>Get ready for a fun and relaxing morning of bingo at the library! Join us for an hour of bingo fun\, where you can play for small prizes and socialize with friends. </p><u></u>\nMore info: https://somelibrary.org/\nActiveBury: https://www.activebury.com/events/2088
URL:https://www.activebury.com/events/2088
END:VEVENT
END:VCALENDAR
