BEGIN:VCALENDAR
VERSION:2.0
PRODID:-//ActiveBury//Events//EN
CALSCALE:GREGORIAN
BEGIN:VEVENT
UID:event-2087@activebury.com
DTSTAMP:20260425T133907Z
SUMMARY:Bubbles & Beats! Kids Dance Party
DTSTART;VALUE=DATE:20260616
DTEND;VALUE=DATE:20260617
LOCATION:Trimper Rides | 700 South Atlantic Ave. - Ocean City\, MD\, 21842
DESCRIPTION:🎉 Bubble & Beats at Trimper Rides 🎶🫧 📅 Date: Tuesday\, June 16th ⏰ Time: 4 PM – 6 PM 📍 Location: Trimper Rides\, Ocean City\, MD Get ready...\nMore info: https://www.ococean.com/event/bubbles-%26-beats!-kids-dance-party/2657/\nActiveBury: https://www.activebury.com/events/2087
URL:https://www.activebury.com/events/2087
END:VEVENT
END:VCALENDAR
