BEGIN:VCALENDAR
VERSION:2.0
PRODID:-//ActiveBury//Events//EN
CALSCALE:GREGORIAN
BEGIN:VEVENT
UID:event-2085@activebury.com
DTSTAMP:20260425T134420Z
SUMMARY:No fee on Wildlife Drive\, Flag Day
DTSTART;VALUE=DATE:20260614
DTEND;VALUE=DATE:20260615
LOCATION:Blackwater NWR Visitor Center\, Cambridge\, MD
DESCRIPTION:No fee on Wildlife Drive\, Flag Day\nMore info: https://www.friendsofblackwater.org/events.html\nActiveBury: https://www.activebury.com/events/2085
URL:https://www.activebury.com/events/2085
END:VEVENT
END:VCALENDAR
