BEGIN:VCALENDAR
VERSION:2.0
PRODID:-//ActiveBury//Events//EN
CALSCALE:GREGORIAN
BEGIN:VEVENT
UID:event-2084@activebury.com
DTSTAMP:20260425T133945Z
SUMMARY:Blackwaterâs Annual Youth Fishing Fun Day
DTSTART;VALUE=DATE:20260606
DTEND;VALUE=DATE:20260607
LOCATION:Blackwater NWR Visitor Center\, Cambridge\, MD
DESCRIPTION:Blackwaterâs Annual Youth Fishing Fun Day. Details TBA.\nMore info: https://www.friendsofblackwater.org/events.html\nActiveBury: https://www.activebury.com/events/2084
URL:https://www.activebury.com/events/2084
END:VEVENT
END:VCALENDAR
