BEGIN:VCALENDAR
VERSION:2.0
PRODID:-//ActiveBury//Events//EN
CALSCALE:GREGORIAN
BEGIN:VEVENT
UID:event-2083@activebury.com
DTSTAMP:20260425T133419Z
SUMMARY:3rd Friday - Downtown Luau
DTSTART;VALUE=DATE:20260619
DTEND;VALUE=DATE:20260620
LOCATION:Downtown Salisbury
DESCRIPTION:More info: https://www.3rdfridaysby.com/\nActiveBury: https://www.activebury.com/events/2083
URL:https://www.activebury.com/events/2083
END:VEVENT
END:VCALENDAR
