BEGIN:VCALENDAR
VERSION:2.0
PRODID:-//ActiveBury//Events//EN
CALSCALE:GREGORIAN
BEGIN:VEVENT
UID:event-2081@activebury.com
DTSTAMP:20260425T133434Z
SUMMARY:Tech Tuesdays
DTSTART:20260630T140000
DTEND:20260630T160000
LOCATION:Central Branch Denton
DESCRIPTION:Need Help with Technology?\nMore info: https://carolinecounty.librarycalendar.com/event/tech-tuesdays-2727\nActiveBury: https://www.activebury.com/events/2081
URL:https://www.activebury.com/events/2081
END:VEVENT
END:VCALENDAR
