BEGIN:VCALENDAR
VERSION:2.0
PRODID:-//ActiveBury//Events//EN
CALSCALE:GREGORIAN
BEGIN:VEVENT
UID:event-208@activebury.com
DTSTAMP:20260425T133311Z
SUMMARY:Monthly Memories Scrapbooking
DTSTART:20260217T170000
DTEND:20260217T183000
LOCATION:Centre Branch
DESCRIPTION:This event is in the "Ages 18+" group 5:00pm–6:30pm Ages 18+ Centre Branch Closed Registration Available This event is in the "Ages 18+" group Feb 17 2026 Tue Monthly Memories Scrapbooking 5:00pm–6:30pm Centre Branch Closed Please note you are looking at an event that has already happened. Centre Branch The Space at Centre Ages 18+ Arts and Crafts \, Class or Workshop Registration Available Join us each month to create a scrapbook page and make some memories along the way! All craft materials will be provided\, but feel free to bring your own 'scraps'-- photos\, tickets\, any odds & ends! :)\nMore info: https://www.wicomicolibrary.org/event/seasonal-scrapbookers-19658\nActiveBury: https://www.activebury.com/events/208
URL:https://www.activebury.com/events/208
END:VEVENT
END:VCALENDAR
