BEGIN:VCALENDAR
VERSION:2.0
PRODID:-//ActiveBury//Events//EN
CALSCALE:GREGORIAN
BEGIN:VEVENT
UID:event-2079@activebury.com
DTSTAMP:20260425T133324Z
SUMMARY:Holiday Closing
DTSTART;VALUE=DATE:20260619
DTEND;VALUE=DATE:20260620
DESCRIPTION:Jun 19 2026 Fri Holiday Closing All Day Closing Jun 19 2026 Fri Closing Holiday Closing All Day Branches: Central Branch Denton\, Federalsburg Branch\, North County Branch Greensboro\, Off Site\, Outreach Description: Holiday Closing\nMore info: https://carolinecounty.librarycalendar.com/event/holiday-closing-1220\nActiveBury: https://www.activebury.com/events/2079
URL:https://www.activebury.com/events/2079
END:VEVENT
END:VCALENDAR
