BEGIN:VCALENDAR
VERSION:2.0
PRODID:-//ActiveBury//Events//EN
CALSCALE:GREGORIAN
BEGIN:VEVENT
UID:event-2078@activebury.com
DTSTAMP:20260425T183011Z
SUMMARY:Tuesday Night BookClub
DTSTART:20260616T180000
DTEND:20260616T210000
LOCATION:Central Branch Denton
DESCRIPTION:Jun 16 2026 Tue Tuesday Night BookClub 6:00pm–9:00pm Jun 16 2026 Tue Tuesday Night BookClub 6:00pm–9:00pm This is not a library sponsored event. Library Branch: Central Branch Denton Room: Small Meeting Room Purpose of Meeting Bookclub\nMore info: https://carolinecounty.librarycalendar.com/event/tuesday-night-bookclub-2781\nActiveBury: https://www.activebury.com/events/2078
URL:https://www.activebury.com/events/2078
END:VEVENT
END:VCALENDAR
