BEGIN:VCALENDAR
VERSION:2.0
PRODID:-//ActiveBury//Events//EN
CALSCALE:GREGORIAN
BEGIN:VEVENT
UID:event-2077@activebury.com
DTSTAMP:20260425T163908Z
SUMMARY:Tech Tuesdays
DTSTART:20260616T140000
DTEND:20260616T160000
LOCATION:Central Branch Denton
DESCRIPTION:Need Help with Technology?\nMore info: https://carolinecounty.librarycalendar.com/event/tech-tuesdays-2725\nActiveBury: https://www.activebury.com/events/2077
URL:https://www.activebury.com/events/2077
END:VEVENT
END:VCALENDAR
