BEGIN:VCALENDAR
VERSION:2.0
PRODID:-//ActiveBury//Events//EN
CALSCALE:GREGORIAN
BEGIN:VEVENT
UID:event-2076@activebury.com
DTSTAMP:20260425T133844Z
SUMMARY:Federalsburg Bookies
DTSTART:20260616T130000
DTEND:20260616T140000
LOCATION:Federalsburg Branch
DESCRIPTION:Federalsburg Bookies book discussion group meets in person at the Federalsburg Branch Library on the third Tuesday of each month at 1pm. This group reads a variety of fiction.\nMore info: https://carolinecounty.librarycalendar.com/event/federalsburg-bookies-2519\nActiveBury: https://www.activebury.com/events/2076
URL:https://www.activebury.com/events/2076
END:VEVENT
END:VCALENDAR
