BEGIN:VCALENDAR
VERSION:2.0
PRODID:-//ActiveBury//Events//EN
CALSCALE:GREGORIAN
BEGIN:VEVENT
UID:event-2074@activebury.com
DTSTAMP:20260425T133419Z
SUMMARY:Tech Tuesdays
DTSTART:20260602T140000
DTEND:20260602T160000
LOCATION:Central Branch Denton
DESCRIPTION:Need Help with Technology?\nMore info: https://carolinecounty.librarycalendar.com/event/tech-tuesdays-2723\nActiveBury: https://www.activebury.com/events/2074
URL:https://www.activebury.com/events/2074
END:VEVENT
END:VCALENDAR
