BEGIN:VCALENDAR
VERSION:2.0
PRODID:-//ActiveBury//Events//EN
CALSCALE:GREGORIAN
BEGIN:VEVENT
UID:event-2073@activebury.com
DTSTAMP:20260425T133326Z
SUMMARY:Endless Ember
DTSTART:20260628T140000
DTEND:20260628T170000
LOCATION:Bordeleau Vineyard & Winery\, 3155 Noble Farm Road\, Eden\, MD 21822
DESCRIPTION:Enjoy live music with Tin Pan Alley at Bordeleau Vineyard & Winery. Join us for an afternoon of great tunes and wine.\nMore info: https://www.bordeleauwine.com/events\nActiveBury: https://www.activebury.com/events/2073
URL:https://www.activebury.com/events/2073
END:VEVENT
END:VCALENDAR
