BEGIN:VCALENDAR
VERSION:2.0
PRODID:-//ActiveBury//Events//EN
CALSCALE:GREGORIAN
BEGIN:VEVENT
UID:event-2072@activebury.com
DTSTAMP:20260425T134419Z
SUMMARY:Tin Pan Alley
DTSTART;VALUE=DATE:20260627
DTEND;VALUE=DATE:20260628
LOCATION:Bordeleau Vineyard & Winery\, 3155 Noble Farm Road\, Eden\, MD 21822
DESCRIPTION:Join us for a lively performance by Tin Pan Alley at Bordeleau Vineyard & Winery. Enjoy the music in a beautiful setting.\nMore info: https://www.bordeleauwine.com/events\nActiveBury: https://www.activebury.com/events/2072
URL:https://www.activebury.com/events/2072
END:VEVENT
END:VCALENDAR
