BEGIN:VCALENDAR
VERSION:2.0
PRODID:-//ActiveBury//Events//EN
CALSCALE:GREGORIAN
BEGIN:VEVENT
UID:event-2071@activebury.com
DTSTAMP:20260425T133849Z
SUMMARY:Joey Fulkerson
DTSTART:20260621T140000
DTEND:20260621T170000
LOCATION:Bordeleau Vineyard & Winery\, 3155 Noble Farm Road\, Eden\, MD 21822
DESCRIPTION:Join us for an afternoon with Tin Pan Alley at Bordeleau Vineyard & Winery. Enjoy wine and music in a beautiful setting.\nMore info: https://www.bordeleauwine.com/events\nActiveBury: https://www.activebury.com/events/2071
URL:https://www.activebury.com/events/2071
END:VEVENT
END:VCALENDAR
