BEGIN:VCALENDAR
VERSION:2.0
PRODID:-//ActiveBury//Events//EN
CALSCALE:GREGORIAN
BEGIN:VEVENT
UID:event-2070@activebury.com
DTSTAMP:20260425T134000Z
SUMMARY:Margot & Valerie
DTSTART:20260614T140000
DTEND:20260614T170000
LOCATION:Bordeleau Vineyard & Winery\, 3155 Noble Farm Road\, Eden\, MD 21822
DESCRIPTION:Join us for a delightful afternoon with Tin Pan Alley at Bordeleau Vineyard & Winery. Enjoy live music and our exquisite wines.\nMore info: https://www.bordeleauwine.com/events\nActiveBury: https://www.activebury.com/events/2070
URL:https://www.activebury.com/events/2070
END:VEVENT
END:VCALENDAR
